BEGIN:VCALENDAR
VERSION:2.0
PRODID:-//Brand New - ECPv6.15.20//NONSGML v1.0//EN
CALSCALE:GREGORIAN
METHOD:PUBLISH
X-WR-CALNAME:Brand New
X-ORIGINAL-URL:https://band-brandnew.nl
X-WR-CALDESC:Evenementen voor Brand New
REFRESH-INTERVAL;VALUE=DURATION:PT1H
X-Robots-Tag:noindex
X-PUBLISHED-TTL:PT1H
BEGIN:VTIMEZONE
TZID:UTC
BEGIN:STANDARD
TZOFFSETFROM:+0000
TZOFFSETTO:+0000
TZNAME:UTC
DTSTART:20250101T000000
END:STANDARD
END:VTIMEZONE
BEGIN:VEVENT
DTSTART;TZID=UTC:20260517T183000
DTEND;TZID=UTC:20260517T200000
DTSTAMP:20260421T101631
CREATED:20250705T050829Z
LAST-MODIFIED:20250705T050829Z
UID:293-1779042600-1779048000@band-brandnew.nl
SUMMARY:🔥 Jeugddienst Waardhuizen
DESCRIPTION:
URL:https://band-brandnew.nl/event/%f0%9f%94%a5-jeugddienst-waardhuizen/
END:VEVENT
BEGIN:VEVENT
DTSTART;TZID=UTC:20261025T183000
DTEND;TZID=UTC:20261025T200000
DTSTAMP:20260421T101631
CREATED:20250811T055136Z
LAST-MODIFIED:20250811T055136Z
UID:295-1792953000-1792958400@band-brandnew.nl
SUMMARY:🔥 Optreden Gerefomeerd Almkerk
DESCRIPTION:
URL:https://band-brandnew.nl/event/%f0%9f%94%a5-optreden-gerefomeerd-almkerk/
LOCATION:Gereformeerde kerk Almkerk\, Voorstraat 16\, Almkerk\, 4286 AL\, Netherlands
END:VEVENT
END:VCALENDAR